BEGIN:VCALENDAR
VERSION:2.0
PRODID:-//Guildford Bowling Club - ECPv6.15.16.1//NONSGML v1.0//EN
CALSCALE:GREGORIAN
METHOD:PUBLISH
X-ORIGINAL-URL:https://www.guildfordbowlingclub.com.au
X-WR-CALDESC:Events for Guildford Bowling Club
REFRESH-INTERVAL;VALUE=DURATION:PT1H
X-Robots-Tag:noindex
X-PUBLISHED-TTL:PT1H
BEGIN:VTIMEZONE
TZID:Australia/Sydney
BEGIN:STANDARD
TZOFFSETFROM:+1100
TZOFFSETTO:+1000
TZNAME:AEST
DTSTART:20250405T160000
END:STANDARD
BEGIN:DAYLIGHT
TZOFFSETFROM:+1000
TZOFFSETTO:+1100
TZNAME:AEDT
DTSTART:20251004T160000
END:DAYLIGHT
BEGIN:STANDARD
TZOFFSETFROM:+1100
TZOFFSETTO:+1000
TZNAME:AEST
DTSTART:20260404T160000
END:STANDARD
BEGIN:DAYLIGHT
TZOFFSETFROM:+1000
TZOFFSETTO:+1100
TZNAME:AEDT
DTSTART:20261003T160000
END:DAYLIGHT
BEGIN:STANDARD
TZOFFSETFROM:+1100
TZOFFSETTO:+1000
TZNAME:AEST
DTSTART:20270403T160000
END:STANDARD
BEGIN:DAYLIGHT
TZOFFSETFROM:+1000
TZOFFSETTO:+1100
TZNAME:AEDT
DTSTART:20271002T160000
END:DAYLIGHT
END:VTIMEZONE
BEGIN:VEVENT
DTSTART;TZID=Australia/Sydney:20260419T133000
DTEND;TZID=Australia/Sydney:20260419T133000
DTSTAMP:20260420T051118
CREATED:20250805T233410Z
LAST-MODIFIED:20250805T233410Z
UID:10007718-1776605400-1776605400@www.guildfordbowlingclub.com.au
SUMMARY:Sunday Points Raffle
DESCRIPTION:
URL:https://www.guildfordbowlingclub.com.au/event/sunday-points-raffle/2026-04-19/
ATTACH;FMTTYPE=image/jpeg:https://www.guildfordbowlingclub.com.au/wp-content/uploads/2025/08/sunday-raffle.jpg
END:VEVENT
BEGIN:VEVENT
DTSTART;TZID=Australia/Sydney:20260419T133000
DTEND;TZID=Australia/Sydney:20260914T130000
DTSTAMP:20260420T051118
CREATED:20230320T043230Z
LAST-MODIFIED:20250801T032611Z
UID:10002622-1776605400-1789390800@www.guildfordbowlingclub.com.au
SUMMARY:SUNDAY RAFFLE
DESCRIPTION:
URL:https://www.guildfordbowlingclub.com.au/event/sunday-meat-raffle/2026-04-19/
CATEGORIES:Raffles
ATTACH;FMTTYPE=image/jpeg:https://www.guildfordbowlingclub.com.au/wp-content/uploads/2023/03/Copy-of-admin1080-×-1920px-1920-x-1080-px-1920-x-1080-px-Instagram-Post-1.jpg
END:VEVENT
END:VCALENDAR