BEGIN:VCALENDAR
VERSION:2.0
PRODID:-//Guildford Bowling Club - ECPv6.15.16.1//NONSGML v1.0//EN
CALSCALE:GREGORIAN
METHOD:PUBLISH
X-WR-CALNAME:Guildford Bowling Club
X-ORIGINAL-URL:https://www.guildfordbowlingclub.com.au
X-WR-CALDESC:Events for Guildford Bowling Club
REFRESH-INTERVAL;VALUE=DURATION:PT1H
X-Robots-Tag:noindex
X-PUBLISHED-TTL:PT1H
BEGIN:VTIMEZONE
TZID:Australia/Sydney
BEGIN:STANDARD
TZOFFSETFROM:+1100
TZOFFSETTO:+1000
TZNAME:AEST
DTSTART:20270403T160000
END:STANDARD
BEGIN:DAYLIGHT
TZOFFSETFROM:+1000
TZOFFSETTO:+1100
TZNAME:AEDT
DTSTART:20271002T160000
END:DAYLIGHT
BEGIN:STANDARD
TZOFFSETFROM:+1100
TZOFFSETTO:+1000
TZNAME:AEST
DTSTART:20280401T160000
END:STANDARD
BEGIN:DAYLIGHT
TZOFFSETFROM:+1000
TZOFFSETTO:+1100
TZNAME:AEDT
DTSTART:20280930T160000
END:DAYLIGHT
BEGIN:STANDARD
TZOFFSETFROM:+1100
TZOFFSETTO:+1000
TZNAME:AEST
DTSTART:20290331T160000
END:STANDARD
BEGIN:DAYLIGHT
TZOFFSETFROM:+1000
TZOFFSETTO:+1100
TZNAME:AEDT
DTSTART:20291006T160000
END:DAYLIGHT
BEGIN:STANDARD
TZOFFSETFROM:+1100
TZOFFSETTO:+1000
TZNAME:AEST
DTSTART:20300406T160000
END:STANDARD
BEGIN:DAYLIGHT
TZOFFSETFROM:+1000
TZOFFSETTO:+1100
TZNAME:AEDT
DTSTART:20301005T160000
END:DAYLIGHT
BEGIN:STANDARD
TZOFFSETFROM:+1100
TZOFFSETTO:+1000
TZNAME:AEST
DTSTART:20310405T160000
END:STANDARD
BEGIN:DAYLIGHT
TZOFFSETFROM:+1000
TZOFFSETTO:+1100
TZNAME:AEDT
DTSTART:20311004T160000
END:DAYLIGHT
BEGIN:STANDARD
TZOFFSETFROM:+1100
TZOFFSETTO:+1000
TZNAME:AEST
DTSTART:20320403T160000
END:STANDARD
BEGIN:DAYLIGHT
TZOFFSETFROM:+1000
TZOFFSETTO:+1100
TZNAME:AEDT
DTSTART:20321002T160000
END:DAYLIGHT
BEGIN:STANDARD
TZOFFSETFROM:+1100
TZOFFSETTO:+1000
TZNAME:AEST
DTSTART:20330402T160000
END:STANDARD
BEGIN:DAYLIGHT
TZOFFSETFROM:+1000
TZOFFSETTO:+1100
TZNAME:AEDT
DTSTART:20331001T160000
END:DAYLIGHT
BEGIN:STANDARD
TZOFFSETFROM:+1100
TZOFFSETTO:+1000
TZNAME:AEST
DTSTART:20340401T160000
END:STANDARD
BEGIN:DAYLIGHT
TZOFFSETFROM:+1000
TZOFFSETTO:+1100
TZNAME:AEDT
DTSTART:20340930T160000
END:DAYLIGHT
BEGIN:STANDARD
TZOFFSETFROM:+1100
TZOFFSETTO:+1000
TZNAME:AEST
DTSTART:20350331T160000
END:STANDARD
BEGIN:DAYLIGHT
TZOFFSETFROM:+1000
TZOFFSETTO:+1100
TZNAME:AEDT
DTSTART:20351006T160000
END:DAYLIGHT
END:VTIMEZONE
BEGIN:VEVENT
DTSTART;TZID=Australia/Sydney:20280202T193000
DTEND;TZID=Australia/Sydney:20340117T193000
DTSTAMP:20260420T113258
CREATED:20221012T041116Z
LAST-MODIFIED:20250603T054429Z
UID:10004775-1833132600-2021139000@www.guildfordbowlingclub.com.au
SUMMARY:JACKPOT JOKER
DESCRIPTION:
URL:https://www.guildfordbowlingclub.com.au/event/jackpot-joker-this-weeks-jackpot-1150-2024-06-26/
CATEGORIES:Weekly Promotion
ATTACH;FMTTYPE=image/jpeg:https://www.guildfordbowlingclub.com.au/wp-content/uploads/2022/10/Guildford_DigitalResizesJackpot_TVL-e1758235056426.jpg
END:VEVENT
BEGIN:VEVENT
DTSTART;TZID=Australia/Sydney:20280202T193000
DTEND;TZID=Australia/Sydney:20340117T193000
DTSTAMP:20260420T113258
CREATED:20221012T041116Z
LAST-MODIFIED:20250603T054430Z
UID:10004926-1833132600-2021139000@www.guildfordbowlingclub.com.au
SUMMARY:JACKPOT JOKER
DESCRIPTION:
URL:https://www.guildfordbowlingclub.com.au/event/jackpot-joker-this-weeks-jackpot-1150-2024-06-29/
CATEGORIES:Weekly Promotion
ATTACH;FMTTYPE=image/jpeg:https://www.guildfordbowlingclub.com.au/wp-content/uploads/2022/10/Guildford_DigitalResizesJackpot_TVL-e1758235056426.jpg
END:VEVENT
BEGIN:VEVENT
DTSTART;TZID=Australia/Sydney:20280216T193000
DTEND;TZID=Australia/Sydney:20340131T193000
DTSTAMP:20260420T113258
CREATED:20221012T041116Z
LAST-MODIFIED:20250603T054429Z
UID:10004776-1834342200-2022348600@www.guildfordbowlingclub.com.au
SUMMARY:JACKPOT JOKER
DESCRIPTION:
URL:https://www.guildfordbowlingclub.com.au/event/jackpot-joker-this-weeks-jackpot-1150-2024-06-26/
CATEGORIES:Weekly Promotion
ATTACH;FMTTYPE=image/jpeg:https://www.guildfordbowlingclub.com.au/wp-content/uploads/2022/10/Guildford_DigitalResizesJackpot_TVL-e1758235056426.jpg
END:VEVENT
BEGIN:VEVENT
DTSTART;TZID=Australia/Sydney:20280216T193000
DTEND;TZID=Australia/Sydney:20340131T193000
DTSTAMP:20260420T113258
CREATED:20221012T041116Z
LAST-MODIFIED:20250603T054430Z
UID:10004927-1834342200-2022348600@www.guildfordbowlingclub.com.au
SUMMARY:JACKPOT JOKER
DESCRIPTION:
URL:https://www.guildfordbowlingclub.com.au/event/jackpot-joker-this-weeks-jackpot-1150-2024-06-29/
CATEGORIES:Weekly Promotion
ATTACH;FMTTYPE=image/jpeg:https://www.guildfordbowlingclub.com.au/wp-content/uploads/2022/10/Guildford_DigitalResizesJackpot_TVL-e1758235056426.jpg
END:VEVENT
BEGIN:VEVENT
DTSTART;TZID=Australia/Sydney:20280301T193000
DTEND;TZID=Australia/Sydney:20340214T193000
DTSTAMP:20260420T113258
CREATED:20221012T041116Z
LAST-MODIFIED:20250603T054429Z
UID:10004777-1835551800-2023558200@www.guildfordbowlingclub.com.au
SUMMARY:JACKPOT JOKER
DESCRIPTION:
URL:https://www.guildfordbowlingclub.com.au/event/jackpot-joker-this-weeks-jackpot-1150-2024-06-26/
CATEGORIES:Weekly Promotion
ATTACH;FMTTYPE=image/jpeg:https://www.guildfordbowlingclub.com.au/wp-content/uploads/2022/10/Guildford_DigitalResizesJackpot_TVL-e1758235056426.jpg
END:VEVENT
BEGIN:VEVENT
DTSTART;TZID=Australia/Sydney:20280301T193000
DTEND;TZID=Australia/Sydney:20340214T193000
DTSTAMP:20260420T113258
CREATED:20221012T041116Z
LAST-MODIFIED:20250603T054430Z
UID:10004928-1835551800-2023558200@www.guildfordbowlingclub.com.au
SUMMARY:JACKPOT JOKER
DESCRIPTION:
URL:https://www.guildfordbowlingclub.com.au/event/jackpot-joker-this-weeks-jackpot-1150-2024-06-29/
CATEGORIES:Weekly Promotion
ATTACH;FMTTYPE=image/jpeg:https://www.guildfordbowlingclub.com.au/wp-content/uploads/2022/10/Guildford_DigitalResizesJackpot_TVL-e1758235056426.jpg
END:VEVENT
BEGIN:VEVENT
DTSTART;TZID=Australia/Sydney:20280315T193000
DTEND;TZID=Australia/Sydney:20340228T193000
DTSTAMP:20260420T113258
CREATED:20221012T041116Z
LAST-MODIFIED:20250603T054429Z
UID:10004778-1836761400-2024767800@www.guildfordbowlingclub.com.au
SUMMARY:JACKPOT JOKER
DESCRIPTION:
URL:https://www.guildfordbowlingclub.com.au/event/jackpot-joker-this-weeks-jackpot-1150-2024-06-26/
CATEGORIES:Weekly Promotion
ATTACH;FMTTYPE=image/jpeg:https://www.guildfordbowlingclub.com.au/wp-content/uploads/2022/10/Guildford_DigitalResizesJackpot_TVL-e1758235056426.jpg
END:VEVENT
BEGIN:VEVENT
DTSTART;TZID=Australia/Sydney:20280315T193000
DTEND;TZID=Australia/Sydney:20340228T193000
DTSTAMP:20260420T113258
CREATED:20221012T041116Z
LAST-MODIFIED:20250603T054430Z
UID:10004929-1836761400-2024767800@www.guildfordbowlingclub.com.au
SUMMARY:JACKPOT JOKER
DESCRIPTION:
URL:https://www.guildfordbowlingclub.com.au/event/jackpot-joker-this-weeks-jackpot-1150-2024-06-29/
CATEGORIES:Weekly Promotion
ATTACH;FMTTYPE=image/jpeg:https://www.guildfordbowlingclub.com.au/wp-content/uploads/2022/10/Guildford_DigitalResizesJackpot_TVL-e1758235056426.jpg
END:VEVENT
BEGIN:VEVENT
DTSTART;TZID=Australia/Sydney:20280329T193000
DTEND;TZID=Australia/Sydney:20340314T193000
DTSTAMP:20260420T113258
CREATED:20221012T041116Z
LAST-MODIFIED:20250603T054429Z
UID:10004779-1837971000-2025977400@www.guildfordbowlingclub.com.au
SUMMARY:JACKPOT JOKER
DESCRIPTION:
URL:https://www.guildfordbowlingclub.com.au/event/jackpot-joker-this-weeks-jackpot-1150-2024-06-26/
CATEGORIES:Weekly Promotion
ATTACH;FMTTYPE=image/jpeg:https://www.guildfordbowlingclub.com.au/wp-content/uploads/2022/10/Guildford_DigitalResizesJackpot_TVL-e1758235056426.jpg
END:VEVENT
BEGIN:VEVENT
DTSTART;TZID=Australia/Sydney:20280329T193000
DTEND;TZID=Australia/Sydney:20340314T193000
DTSTAMP:20260420T113258
CREATED:20221012T041116Z
LAST-MODIFIED:20250603T054430Z
UID:10004930-1837971000-2025977400@www.guildfordbowlingclub.com.au
SUMMARY:JACKPOT JOKER
DESCRIPTION:
URL:https://www.guildfordbowlingclub.com.au/event/jackpot-joker-this-weeks-jackpot-1150-2024-06-29/
CATEGORIES:Weekly Promotion
ATTACH;FMTTYPE=image/jpeg:https://www.guildfordbowlingclub.com.au/wp-content/uploads/2022/10/Guildford_DigitalResizesJackpot_TVL-e1758235056426.jpg
END:VEVENT
BEGIN:VEVENT
DTSTART;TZID=Australia/Sydney:20280412T193000
DTEND;TZID=Australia/Sydney:20340328T203000
DTSTAMP:20260420T113258
CREATED:20221012T041116Z
LAST-MODIFIED:20250603T054429Z
UID:10004780-1839180600-2027190600@www.guildfordbowlingclub.com.au
SUMMARY:JACKPOT JOKER
DESCRIPTION:
URL:https://www.guildfordbowlingclub.com.au/event/jackpot-joker-this-weeks-jackpot-1150-2024-06-26/
CATEGORIES:Weekly Promotion
ATTACH;FMTTYPE=image/jpeg:https://www.guildfordbowlingclub.com.au/wp-content/uploads/2022/10/Guildford_DigitalResizesJackpot_TVL-e1758235056426.jpg
END:VEVENT
BEGIN:VEVENT
DTSTART;TZID=Australia/Sydney:20280412T193000
DTEND;TZID=Australia/Sydney:20340328T203000
DTSTAMP:20260420T113258
CREATED:20221012T041116Z
LAST-MODIFIED:20250603T054430Z
UID:10004931-1839180600-2027190600@www.guildfordbowlingclub.com.au
SUMMARY:JACKPOT JOKER
DESCRIPTION:
URL:https://www.guildfordbowlingclub.com.au/event/jackpot-joker-this-weeks-jackpot-1150-2024-06-29/
CATEGORIES:Weekly Promotion
ATTACH;FMTTYPE=image/jpeg:https://www.guildfordbowlingclub.com.au/wp-content/uploads/2022/10/Guildford_DigitalResizesJackpot_TVL-e1758235056426.jpg
END:VEVENT
BEGIN:VEVENT
DTSTART;TZID=Australia/Sydney:20280426T193000
DTEND;TZID=Australia/Sydney:20340411T193000
DTSTAMP:20260420T113258
CREATED:20221012T041116Z
LAST-MODIFIED:20250603T054429Z
UID:10004781-1840390200-2028396600@www.guildfordbowlingclub.com.au
SUMMARY:JACKPOT JOKER
DESCRIPTION:
URL:https://www.guildfordbowlingclub.com.au/event/jackpot-joker-this-weeks-jackpot-1150-2024-06-26/
CATEGORIES:Weekly Promotion
ATTACH;FMTTYPE=image/jpeg:https://www.guildfordbowlingclub.com.au/wp-content/uploads/2022/10/Guildford_DigitalResizesJackpot_TVL-e1758235056426.jpg
END:VEVENT
BEGIN:VEVENT
DTSTART;TZID=Australia/Sydney:20280426T193000
DTEND;TZID=Australia/Sydney:20340411T193000
DTSTAMP:20260420T113258
CREATED:20221012T041116Z
LAST-MODIFIED:20250603T054430Z
UID:10004932-1840390200-2028396600@www.guildfordbowlingclub.com.au
SUMMARY:JACKPOT JOKER
DESCRIPTION:
URL:https://www.guildfordbowlingclub.com.au/event/jackpot-joker-this-weeks-jackpot-1150-2024-06-29/
CATEGORIES:Weekly Promotion
ATTACH;FMTTYPE=image/jpeg:https://www.guildfordbowlingclub.com.au/wp-content/uploads/2022/10/Guildford_DigitalResizesJackpot_TVL-e1758235056426.jpg
END:VEVENT
BEGIN:VEVENT
DTSTART;TZID=Australia/Sydney:20280510T193000
DTEND;TZID=Australia/Sydney:20340425T193000
DTSTAMP:20260420T113258
CREATED:20221012T041116Z
LAST-MODIFIED:20250603T054429Z
UID:10004782-1841599800-2029606200@www.guildfordbowlingclub.com.au
SUMMARY:JACKPOT JOKER
DESCRIPTION:
URL:https://www.guildfordbowlingclub.com.au/event/jackpot-joker-this-weeks-jackpot-1150-2024-06-26/
CATEGORIES:Weekly Promotion
ATTACH;FMTTYPE=image/jpeg:https://www.guildfordbowlingclub.com.au/wp-content/uploads/2022/10/Guildford_DigitalResizesJackpot_TVL-e1758235056426.jpg
END:VEVENT
BEGIN:VEVENT
DTSTART;TZID=Australia/Sydney:20280510T193000
DTEND;TZID=Australia/Sydney:20340425T193000
DTSTAMP:20260420T113258
CREATED:20221012T041116Z
LAST-MODIFIED:20250603T054430Z
UID:10004933-1841599800-2029606200@www.guildfordbowlingclub.com.au
SUMMARY:JACKPOT JOKER
DESCRIPTION:
URL:https://www.guildfordbowlingclub.com.au/event/jackpot-joker-this-weeks-jackpot-1150-2024-06-29/
CATEGORIES:Weekly Promotion
ATTACH;FMTTYPE=image/jpeg:https://www.guildfordbowlingclub.com.au/wp-content/uploads/2022/10/Guildford_DigitalResizesJackpot_TVL-e1758235056426.jpg
END:VEVENT
BEGIN:VEVENT
DTSTART;TZID=Australia/Sydney:20280524T193000
DTEND;TZID=Australia/Sydney:20340509T193000
DTSTAMP:20260420T113258
CREATED:20221012T041116Z
LAST-MODIFIED:20250603T054429Z
UID:10004783-1842809400-2030815800@www.guildfordbowlingclub.com.au
SUMMARY:JACKPOT JOKER
DESCRIPTION:
URL:https://www.guildfordbowlingclub.com.au/event/jackpot-joker-this-weeks-jackpot-1150-2024-06-26/
CATEGORIES:Weekly Promotion
ATTACH;FMTTYPE=image/jpeg:https://www.guildfordbowlingclub.com.au/wp-content/uploads/2022/10/Guildford_DigitalResizesJackpot_TVL-e1758235056426.jpg
END:VEVENT
BEGIN:VEVENT
DTSTART;TZID=Australia/Sydney:20280524T193000
DTEND;TZID=Australia/Sydney:20340509T193000
DTSTAMP:20260420T113258
CREATED:20221012T041116Z
LAST-MODIFIED:20250603T054430Z
UID:10004934-1842809400-2030815800@www.guildfordbowlingclub.com.au
SUMMARY:JACKPOT JOKER
DESCRIPTION:
URL:https://www.guildfordbowlingclub.com.au/event/jackpot-joker-this-weeks-jackpot-1150-2024-06-29/
CATEGORIES:Weekly Promotion
ATTACH;FMTTYPE=image/jpeg:https://www.guildfordbowlingclub.com.au/wp-content/uploads/2022/10/Guildford_DigitalResizesJackpot_TVL-e1758235056426.jpg
END:VEVENT
BEGIN:VEVENT
DTSTART;TZID=Australia/Sydney:20280607T193000
DTEND;TZID=Australia/Sydney:20340523T193000
DTSTAMP:20260420T113258
CREATED:20221012T041116Z
LAST-MODIFIED:20250603T054429Z
UID:10004784-1844019000-2032025400@www.guildfordbowlingclub.com.au
SUMMARY:JACKPOT JOKER
DESCRIPTION:
URL:https://www.guildfordbowlingclub.com.au/event/jackpot-joker-this-weeks-jackpot-1150-2024-06-26/
CATEGORIES:Weekly Promotion
ATTACH;FMTTYPE=image/jpeg:https://www.guildfordbowlingclub.com.au/wp-content/uploads/2022/10/Guildford_DigitalResizesJackpot_TVL-e1758235056426.jpg
END:VEVENT
BEGIN:VEVENT
DTSTART;TZID=Australia/Sydney:20280607T193000
DTEND;TZID=Australia/Sydney:20340523T193000
DTSTAMP:20260420T113258
CREATED:20221012T041116Z
LAST-MODIFIED:20250603T054430Z
UID:10004935-1844019000-2032025400@www.guildfordbowlingclub.com.au
SUMMARY:JACKPOT JOKER
DESCRIPTION:
URL:https://www.guildfordbowlingclub.com.au/event/jackpot-joker-this-weeks-jackpot-1150-2024-06-29/
CATEGORIES:Weekly Promotion
ATTACH;FMTTYPE=image/jpeg:https://www.guildfordbowlingclub.com.au/wp-content/uploads/2022/10/Guildford_DigitalResizesJackpot_TVL-e1758235056426.jpg
END:VEVENT
BEGIN:VEVENT
DTSTART;TZID=Australia/Sydney:20280621T193000
DTEND;TZID=Australia/Sydney:20340606T193000
DTSTAMP:20260420T113258
CREATED:20221012T041116Z
LAST-MODIFIED:20250603T054429Z
UID:10004785-1845228600-2033235000@www.guildfordbowlingclub.com.au
SUMMARY:JACKPOT JOKER
DESCRIPTION:
URL:https://www.guildfordbowlingclub.com.au/event/jackpot-joker-this-weeks-jackpot-1150-2024-06-26/
CATEGORIES:Weekly Promotion
ATTACH;FMTTYPE=image/jpeg:https://www.guildfordbowlingclub.com.au/wp-content/uploads/2022/10/Guildford_DigitalResizesJackpot_TVL-e1758235056426.jpg
END:VEVENT
BEGIN:VEVENT
DTSTART;TZID=Australia/Sydney:20280621T193000
DTEND;TZID=Australia/Sydney:20340606T193000
DTSTAMP:20260420T113258
CREATED:20221012T041116Z
LAST-MODIFIED:20250603T054430Z
UID:10004936-1845228600-2033235000@www.guildfordbowlingclub.com.au
SUMMARY:JACKPOT JOKER
DESCRIPTION:
URL:https://www.guildfordbowlingclub.com.au/event/jackpot-joker-this-weeks-jackpot-1150-2024-06-29/
CATEGORIES:Weekly Promotion
ATTACH;FMTTYPE=image/jpeg:https://www.guildfordbowlingclub.com.au/wp-content/uploads/2022/10/Guildford_DigitalResizesJackpot_TVL-e1758235056426.jpg
END:VEVENT
BEGIN:VEVENT
DTSTART;TZID=Australia/Sydney:20280705T193000
DTEND;TZID=Australia/Sydney:20340620T193000
DTSTAMP:20260420T113258
CREATED:20221012T041116Z
LAST-MODIFIED:20250603T054429Z
UID:10004786-1846438200-2034444600@www.guildfordbowlingclub.com.au
SUMMARY:JACKPOT JOKER
DESCRIPTION:
URL:https://www.guildfordbowlingclub.com.au/event/jackpot-joker-this-weeks-jackpot-1150-2024-06-26/
CATEGORIES:Weekly Promotion
ATTACH;FMTTYPE=image/jpeg:https://www.guildfordbowlingclub.com.au/wp-content/uploads/2022/10/Guildford_DigitalResizesJackpot_TVL-e1758235056426.jpg
END:VEVENT
BEGIN:VEVENT
DTSTART;TZID=Australia/Sydney:20280705T193000
DTEND;TZID=Australia/Sydney:20340620T193000
DTSTAMP:20260420T113258
CREATED:20221012T041116Z
LAST-MODIFIED:20250603T054430Z
UID:10004937-1846438200-2034444600@www.guildfordbowlingclub.com.au
SUMMARY:JACKPOT JOKER
DESCRIPTION:
URL:https://www.guildfordbowlingclub.com.au/event/jackpot-joker-this-weeks-jackpot-1150-2024-06-29/
CATEGORIES:Weekly Promotion
ATTACH;FMTTYPE=image/jpeg:https://www.guildfordbowlingclub.com.au/wp-content/uploads/2022/10/Guildford_DigitalResizesJackpot_TVL-e1758235056426.jpg
END:VEVENT
BEGIN:VEVENT
DTSTART;TZID=Australia/Sydney:20280719T193000
DTEND;TZID=Australia/Sydney:20340704T193000
DTSTAMP:20260420T113258
CREATED:20221012T041116Z
LAST-MODIFIED:20250603T054429Z
UID:10004787-1847647800-2035654200@www.guildfordbowlingclub.com.au
SUMMARY:JACKPOT JOKER
DESCRIPTION:
URL:https://www.guildfordbowlingclub.com.au/event/jackpot-joker-this-weeks-jackpot-1150-2024-06-26/
CATEGORIES:Weekly Promotion
ATTACH;FMTTYPE=image/jpeg:https://www.guildfordbowlingclub.com.au/wp-content/uploads/2022/10/Guildford_DigitalResizesJackpot_TVL-e1758235056426.jpg
END:VEVENT
BEGIN:VEVENT
DTSTART;TZID=Australia/Sydney:20280719T193000
DTEND;TZID=Australia/Sydney:20340704T193000
DTSTAMP:20260420T113258
CREATED:20221012T041116Z
LAST-MODIFIED:20250603T054430Z
UID:10004938-1847647800-2035654200@www.guildfordbowlingclub.com.au
SUMMARY:JACKPOT JOKER
DESCRIPTION:
URL:https://www.guildfordbowlingclub.com.au/event/jackpot-joker-this-weeks-jackpot-1150-2024-06-29/
CATEGORIES:Weekly Promotion
ATTACH;FMTTYPE=image/jpeg:https://www.guildfordbowlingclub.com.au/wp-content/uploads/2022/10/Guildford_DigitalResizesJackpot_TVL-e1758235056426.jpg
END:VEVENT
BEGIN:VEVENT
DTSTART;TZID=Australia/Sydney:20280802T193000
DTEND;TZID=Australia/Sydney:20340718T193000
DTSTAMP:20260420T113258
CREATED:20221012T041116Z
LAST-MODIFIED:20250603T054429Z
UID:10004788-1848857400-2036863800@www.guildfordbowlingclub.com.au
SUMMARY:JACKPOT JOKER
DESCRIPTION:
URL:https://www.guildfordbowlingclub.com.au/event/jackpot-joker-this-weeks-jackpot-1150-2024-06-26/
CATEGORIES:Weekly Promotion
ATTACH;FMTTYPE=image/jpeg:https://www.guildfordbowlingclub.com.au/wp-content/uploads/2022/10/Guildford_DigitalResizesJackpot_TVL-e1758235056426.jpg
END:VEVENT
BEGIN:VEVENT
DTSTART;TZID=Australia/Sydney:20280802T193000
DTEND;TZID=Australia/Sydney:20340718T193000
DTSTAMP:20260420T113258
CREATED:20221012T041116Z
LAST-MODIFIED:20250603T054430Z
UID:10004939-1848857400-2036863800@www.guildfordbowlingclub.com.au
SUMMARY:JACKPOT JOKER
DESCRIPTION:
URL:https://www.guildfordbowlingclub.com.au/event/jackpot-joker-this-weeks-jackpot-1150-2024-06-29/
CATEGORIES:Weekly Promotion
ATTACH;FMTTYPE=image/jpeg:https://www.guildfordbowlingclub.com.au/wp-content/uploads/2022/10/Guildford_DigitalResizesJackpot_TVL-e1758235056426.jpg
END:VEVENT
BEGIN:VEVENT
DTSTART;TZID=Australia/Sydney:20280816T193000
DTEND;TZID=Australia/Sydney:20340801T193000
DTSTAMP:20260420T113258
CREATED:20221012T041116Z
LAST-MODIFIED:20250603T054429Z
UID:10004789-1850067000-2038073400@www.guildfordbowlingclub.com.au
SUMMARY:JACKPOT JOKER
DESCRIPTION:
URL:https://www.guildfordbowlingclub.com.au/event/jackpot-joker-this-weeks-jackpot-1150-2024-06-26/
CATEGORIES:Weekly Promotion
ATTACH;FMTTYPE=image/jpeg:https://www.guildfordbowlingclub.com.au/wp-content/uploads/2022/10/Guildford_DigitalResizesJackpot_TVL-e1758235056426.jpg
END:VEVENT
BEGIN:VEVENT
DTSTART;TZID=Australia/Sydney:20280816T193000
DTEND;TZID=Australia/Sydney:20340801T193000
DTSTAMP:20260420T113258
CREATED:20221012T041116Z
LAST-MODIFIED:20250603T054430Z
UID:10004940-1850067000-2038073400@www.guildfordbowlingclub.com.au
SUMMARY:JACKPOT JOKER
DESCRIPTION:
URL:https://www.guildfordbowlingclub.com.au/event/jackpot-joker-this-weeks-jackpot-1150-2024-06-29/
CATEGORIES:Weekly Promotion
ATTACH;FMTTYPE=image/jpeg:https://www.guildfordbowlingclub.com.au/wp-content/uploads/2022/10/Guildford_DigitalResizesJackpot_TVL-e1758235056426.jpg
END:VEVENT
END:VCALENDAR