BEGIN:VCALENDAR
VERSION:2.0
PRODID:-//Guildford Bowling Club - ECPv6.15.16.1//NONSGML v1.0//EN
CALSCALE:GREGORIAN
METHOD:PUBLISH
X-ORIGINAL-URL:https://www.guildfordbowlingclub.com.au
X-WR-CALDESC:Events for Guildford Bowling Club
REFRESH-INTERVAL;VALUE=DURATION:PT1H
X-Robots-Tag:noindex
X-PUBLISHED-TTL:PT1H
BEGIN:VTIMEZONE
TZID:Australia/Sydney
BEGIN:STANDARD
TZOFFSETFROM:+1100
TZOFFSETTO:+1000
TZNAME:AEST
DTSTART:20250405T160000
END:STANDARD
BEGIN:DAYLIGHT
TZOFFSETFROM:+1000
TZOFFSETTO:+1100
TZNAME:AEDT
DTSTART:20251004T160000
END:DAYLIGHT
BEGIN:STANDARD
TZOFFSETFROM:+1100
TZOFFSETTO:+1000
TZNAME:AEST
DTSTART:20260404T160000
END:STANDARD
BEGIN:DAYLIGHT
TZOFFSETFROM:+1000
TZOFFSETTO:+1100
TZNAME:AEDT
DTSTART:20261003T160000
END:DAYLIGHT
BEGIN:STANDARD
TZOFFSETFROM:+1100
TZOFFSETTO:+1000
TZNAME:AEST
DTSTART:20270403T160000
END:STANDARD
BEGIN:DAYLIGHT
TZOFFSETFROM:+1000
TZOFFSETTO:+1100
TZNAME:AEDT
DTSTART:20271002T160000
END:DAYLIGHT
BEGIN:STANDARD
TZOFFSETFROM:+1100
TZOFFSETTO:+1000
TZNAME:AEST
DTSTART:20280401T160000
END:STANDARD
BEGIN:DAYLIGHT
TZOFFSETFROM:+1000
TZOFFSETTO:+1100
TZNAME:AEDT
DTSTART:20280930T160000
END:DAYLIGHT
BEGIN:STANDARD
TZOFFSETFROM:+1100
TZOFFSETTO:+1000
TZNAME:AEST
DTSTART:20290331T160000
END:STANDARD
BEGIN:DAYLIGHT
TZOFFSETFROM:+1000
TZOFFSETTO:+1100
TZNAME:AEDT
DTSTART:20291006T160000
END:DAYLIGHT
BEGIN:STANDARD
TZOFFSETFROM:+1100
TZOFFSETTO:+1000
TZNAME:AEST
DTSTART:20300406T160000
END:STANDARD
BEGIN:DAYLIGHT
TZOFFSETFROM:+1000
TZOFFSETTO:+1100
TZNAME:AEDT
DTSTART:20301005T160000
END:DAYLIGHT
BEGIN:STANDARD
TZOFFSETFROM:+1100
TZOFFSETTO:+1000
TZNAME:AEST
DTSTART:20310405T160000
END:STANDARD
BEGIN:DAYLIGHT
TZOFFSETFROM:+1000
TZOFFSETTO:+1100
TZNAME:AEDT
DTSTART:20311004T160000
END:DAYLIGHT
BEGIN:STANDARD
TZOFFSETFROM:+1100
TZOFFSETTO:+1000
TZNAME:AEST
DTSTART:20320403T160000
END:STANDARD
BEGIN:DAYLIGHT
TZOFFSETFROM:+1000
TZOFFSETTO:+1100
TZNAME:AEDT
DTSTART:20321002T160000
END:DAYLIGHT
BEGIN:STANDARD
TZOFFSETFROM:+1100
TZOFFSETTO:+1000
TZNAME:AEST
DTSTART:20330402T160000
END:STANDARD
BEGIN:DAYLIGHT
TZOFFSETFROM:+1000
TZOFFSETTO:+1100
TZNAME:AEDT
DTSTART:20331001T160000
END:DAYLIGHT
END:VTIMEZONE
BEGIN:VEVENT
DTSTART;TZID=Australia/Sydney:20260415T193000
DTEND;TZID=Australia/Sydney:20320330T203000
DTSTAMP:20260420T075511
CREATED:20221012T041116Z
LAST-MODIFIED:20250603T054430Z
UID:10004879-1776281400-1964291400@www.guildfordbowlingclub.com.au
SUMMARY:JACKPOT JOKER
DESCRIPTION:
URL:https://www.guildfordbowlingclub.com.au/event/jackpot-joker-this-weeks-jackpot-1150-2024-06-29/
CATEGORIES:Weekly Promotion
ATTACH;FMTTYPE=image/jpeg:https://www.guildfordbowlingclub.com.au/wp-content/uploads/2022/10/Guildford_DigitalResizesJackpot_TVL-e1758235056426.jpg
END:VEVENT
BEGIN:VEVENT
DTSTART;TZID=Australia/Sydney:20260422T190000
DTEND;TZID=Australia/Sydney:20260422T193000
DTSTAMP:20260420T075511
CREATED:20250522T081418Z
LAST-MODIFIED:20250522T081656Z
UID:10002137-1776884400-1776886200@www.guildfordbowlingclub.com.au
SUMMARY:WEDNESDAY RAFFLE
DESCRIPTION:
URL:https://www.guildfordbowlingclub.com.au/event/wednesday-raffle-2/2026-04-22/
CATEGORIES:Raffles
ATTACH;FMTTYPE=image/jpeg:https://www.guildfordbowlingclub.com.au/wp-content/uploads/2022/10/Guildford_DigitalResizesVoucher_TVL.jpg
END:VEVENT
BEGIN:VEVENT
DTSTART;TZID=Australia/Sydney:20260422T193000
DTEND;TZID=Australia/Sydney:20260422T235900
DTSTAMP:20260420T075511
CREATED:20250603T055823Z
LAST-MODIFIED:20260413T045148Z
UID:10005865-1776886200-1776902340@www.guildfordbowlingclub.com.au
SUMMARY:JACKPOT JOKER
DESCRIPTION:
URL:https://www.guildfordbowlingclub.com.au/event/jackpot-joker/2026-04-22/
CATEGORIES:Weekly Promotion
ATTACH;FMTTYPE=image/png:https://www.guildfordbowlingclub.com.au/wp-content/uploads/2025/06/Screenshot-2025-09-19-083934.png
END:VEVENT
BEGIN:VEVENT
DTSTART;TZID=Australia/Sydney:20260424T193000
DTEND;TZID=Australia/Sydney:20260424T223000
DTSTAMP:20260420T075511
CREATED:20260325T051637Z
LAST-MODIFIED:20260325T051637Z
UID:10008319-1777059000-1777069800@www.guildfordbowlingclub.com.au
SUMMARY:On The Prowl
DESCRIPTION:
URL:https://www.guildfordbowlingclub.com.au/event/on-the-prowl/
CATEGORIES:Entertainment
ATTACH;FMTTYPE=image/jpeg:https://www.guildfordbowlingclub.com.au/wp-content/uploads/2026/03/on-the-prowl.jpg
END:VEVENT
BEGIN:VEVENT
DTSTART;VALUE=DATE:20260425
DTEND;VALUE=DATE:20260426
DTSTAMP:20260420T075511
CREATED:20250805T232912Z
LAST-MODIFIED:20250807T001542Z
UID:10007458-1777075200-1777161599@www.guildfordbowlingclub.com.au
SUMMARY:Punters Challenge
DESCRIPTION:
URL:https://www.guildfordbowlingclub.com.au/event/punters-challenge/2026-04-25/
ATTACH;FMTTYPE=image/png:https://www.guildfordbowlingclub.com.au/wp-content/uploads/2025/08/PCCSP25_Square1_1080x1080.png
END:VEVENT
BEGIN:VEVENT
DTSTART;TZID=Australia/Sydney:20260425T173000
DTEND;TZID=Australia/Sydney:20260425T173000
DTSTAMP:20260420T075511
CREATED:20250805T000525Z
LAST-MODIFIED:20260413T045058Z
UID:10006673-1777138200-1777138200@www.guildfordbowlingclub.com.au
SUMMARY:MEMBERS CASH DRAW
DESCRIPTION:
URL:https://www.guildfordbowlingclub.com.au/event/members-cash-draw-2-2-2/2026-04-25/
CATEGORIES:Weekly Promotion
ATTACH;FMTTYPE=image/jpeg:https://www.guildfordbowlingclub.com.au/wp-content/uploads/2022/08/Guildford_MembersCashDraw_TVL.jpg
END:VEVENT
BEGIN:VEVENT
DTSTART;TZID=Australia/Sydney:20260425T193000
DTEND;TZID=Australia/Sydney:20260425T193000
DTSTAMP:20260420T075511
CREATED:20250805T233100Z
LAST-MODIFIED:20250915T053326Z
UID:10007197-1777145400-1777145400@www.guildfordbowlingclub.com.au
SUMMARY:Saturday Voucher Raffle
DESCRIPTION:
URL:https://www.guildfordbowlingclub.com.au/event/saturday-voucher-raffle/2026-04-25/
CATEGORIES:Raffles
ATTACH;FMTTYPE=image/jpeg:https://www.guildfordbowlingclub.com.au/wp-content/uploads/2025/08/Guildford_SatNightRaffle_TVL.jpg
END:VEVENT
BEGIN:VEVENT
DTSTART;TZID=Australia/Sydney:20260426T133000
DTEND;TZID=Australia/Sydney:20260426T133000
DTSTAMP:20260420T075511
CREATED:20250805T233410Z
LAST-MODIFIED:20250805T233410Z
UID:10007719-1777210200-1777210200@www.guildfordbowlingclub.com.au
SUMMARY:Sunday Points Raffle
DESCRIPTION:
URL:https://www.guildfordbowlingclub.com.au/event/sunday-points-raffle/2026-04-26/
ATTACH;FMTTYPE=image/jpeg:https://www.guildfordbowlingclub.com.au/wp-content/uploads/2025/08/sunday-raffle.jpg
END:VEVENT
BEGIN:VEVENT
DTSTART;TZID=Australia/Sydney:20260429T193000
DTEND;TZID=Australia/Sydney:20320413T193000
DTSTAMP:20260420T075511
CREATED:20221012T041116Z
LAST-MODIFIED:20250603T054429Z
UID:10004729-1777491000-1965497400@www.guildfordbowlingclub.com.au
SUMMARY:JACKPOT JOKER
DESCRIPTION:
URL:https://www.guildfordbowlingclub.com.au/event/jackpot-joker-this-weeks-jackpot-1150-2024-06-26/
CATEGORIES:Weekly Promotion
ATTACH;FMTTYPE=image/jpeg:https://www.guildfordbowlingclub.com.au/wp-content/uploads/2022/10/Guildford_DigitalResizesJackpot_TVL-e1758235056426.jpg
END:VEVENT
BEGIN:VEVENT
DTSTART;TZID=Australia/Sydney:20260429T193000
DTEND;TZID=Australia/Sydney:20320413T193000
DTSTAMP:20260420T075511
CREATED:20221012T041116Z
LAST-MODIFIED:20250603T054430Z
UID:10004880-1777491000-1965497400@www.guildfordbowlingclub.com.au
SUMMARY:JACKPOT JOKER
DESCRIPTION:
URL:https://www.guildfordbowlingclub.com.au/event/jackpot-joker-this-weeks-jackpot-1150-2024-06-29/
CATEGORIES:Weekly Promotion
ATTACH;FMTTYPE=image/jpeg:https://www.guildfordbowlingclub.com.au/wp-content/uploads/2022/10/Guildford_DigitalResizesJackpot_TVL-e1758235056426.jpg
END:VEVENT
BEGIN:VEVENT
DTSTART;TZID=Australia/Sydney:20260513T193000
DTEND;TZID=Australia/Sydney:20320427T193000
DTSTAMP:20260420T075511
CREATED:20221012T041116Z
LAST-MODIFIED:20250603T054429Z
UID:10004730-1778700600-1966707000@www.guildfordbowlingclub.com.au
SUMMARY:JACKPOT JOKER
DESCRIPTION:
URL:https://www.guildfordbowlingclub.com.au/event/jackpot-joker-this-weeks-jackpot-1150-2024-06-26/
CATEGORIES:Weekly Promotion
ATTACH;FMTTYPE=image/jpeg:https://www.guildfordbowlingclub.com.au/wp-content/uploads/2022/10/Guildford_DigitalResizesJackpot_TVL-e1758235056426.jpg
END:VEVENT
BEGIN:VEVENT
DTSTART;TZID=Australia/Sydney:20260513T193000
DTEND;TZID=Australia/Sydney:20320427T193000
DTSTAMP:20260420T075511
CREATED:20221012T041116Z
LAST-MODIFIED:20250603T054430Z
UID:10004881-1778700600-1966707000@www.guildfordbowlingclub.com.au
SUMMARY:JACKPOT JOKER
DESCRIPTION:
URL:https://www.guildfordbowlingclub.com.au/event/jackpot-joker-this-weeks-jackpot-1150-2024-06-29/
CATEGORIES:Weekly Promotion
ATTACH;FMTTYPE=image/jpeg:https://www.guildfordbowlingclub.com.au/wp-content/uploads/2022/10/Guildford_DigitalResizesJackpot_TVL-e1758235056426.jpg
END:VEVENT
BEGIN:VEVENT
DTSTART;TZID=Australia/Sydney:20260527T193000
DTEND;TZID=Australia/Sydney:20320511T193000
DTSTAMP:20260420T075511
CREATED:20221012T041116Z
LAST-MODIFIED:20250603T054429Z
UID:10004731-1779910200-1967916600@www.guildfordbowlingclub.com.au
SUMMARY:JACKPOT JOKER
DESCRIPTION:
URL:https://www.guildfordbowlingclub.com.au/event/jackpot-joker-this-weeks-jackpot-1150-2024-06-26/
CATEGORIES:Weekly Promotion
ATTACH;FMTTYPE=image/jpeg:https://www.guildfordbowlingclub.com.au/wp-content/uploads/2022/10/Guildford_DigitalResizesJackpot_TVL-e1758235056426.jpg
END:VEVENT
BEGIN:VEVENT
DTSTART;TZID=Australia/Sydney:20260527T193000
DTEND;TZID=Australia/Sydney:20320511T193000
DTSTAMP:20260420T075511
CREATED:20221012T041116Z
LAST-MODIFIED:20250603T054430Z
UID:10004882-1779910200-1967916600@www.guildfordbowlingclub.com.au
SUMMARY:JACKPOT JOKER
DESCRIPTION:
URL:https://www.guildfordbowlingclub.com.au/event/jackpot-joker-this-weeks-jackpot-1150-2024-06-29/
CATEGORIES:Weekly Promotion
ATTACH;FMTTYPE=image/jpeg:https://www.guildfordbowlingclub.com.au/wp-content/uploads/2022/10/Guildford_DigitalResizesJackpot_TVL-e1758235056426.jpg
END:VEVENT
BEGIN:VEVENT
DTSTART;TZID=Australia/Sydney:20260610T193000
DTEND;TZID=Australia/Sydney:20320525T193000
DTSTAMP:20260420T075511
CREATED:20221012T041116Z
LAST-MODIFIED:20250603T054429Z
UID:10004732-1781119800-1969126200@www.guildfordbowlingclub.com.au
SUMMARY:JACKPOT JOKER
DESCRIPTION:
URL:https://www.guildfordbowlingclub.com.au/event/jackpot-joker-this-weeks-jackpot-1150-2024-06-26/
CATEGORIES:Weekly Promotion
ATTACH;FMTTYPE=image/jpeg:https://www.guildfordbowlingclub.com.au/wp-content/uploads/2022/10/Guildford_DigitalResizesJackpot_TVL-e1758235056426.jpg
END:VEVENT
BEGIN:VEVENT
DTSTART;TZID=Australia/Sydney:20260610T193000
DTEND;TZID=Australia/Sydney:20320525T193000
DTSTAMP:20260420T075512
CREATED:20221012T041116Z
LAST-MODIFIED:20250603T054430Z
UID:10004883-1781119800-1969126200@www.guildfordbowlingclub.com.au
SUMMARY:JACKPOT JOKER
DESCRIPTION:
URL:https://www.guildfordbowlingclub.com.au/event/jackpot-joker-this-weeks-jackpot-1150-2024-06-29/
CATEGORIES:Weekly Promotion
ATTACH;FMTTYPE=image/jpeg:https://www.guildfordbowlingclub.com.au/wp-content/uploads/2022/10/Guildford_DigitalResizesJackpot_TVL-e1758235056426.jpg
END:VEVENT
BEGIN:VEVENT
DTSTART;TZID=Australia/Sydney:20260624T193000
DTEND;TZID=Australia/Sydney:20320608T193000
DTSTAMP:20260420T075512
CREATED:20221012T041116Z
LAST-MODIFIED:20250603T054429Z
UID:10004733-1782329400-1970335800@www.guildfordbowlingclub.com.au
SUMMARY:JACKPOT JOKER
DESCRIPTION:
URL:https://www.guildfordbowlingclub.com.au/event/jackpot-joker-this-weeks-jackpot-1150-2024-06-26/
CATEGORIES:Weekly Promotion
ATTACH;FMTTYPE=image/jpeg:https://www.guildfordbowlingclub.com.au/wp-content/uploads/2022/10/Guildford_DigitalResizesJackpot_TVL-e1758235056426.jpg
END:VEVENT
BEGIN:VEVENT
DTSTART;TZID=Australia/Sydney:20260624T193000
DTEND;TZID=Australia/Sydney:20320608T193000
DTSTAMP:20260420T075512
CREATED:20221012T041116Z
LAST-MODIFIED:20250603T054430Z
UID:10004884-1782329400-1970335800@www.guildfordbowlingclub.com.au
SUMMARY:JACKPOT JOKER
DESCRIPTION:
URL:https://www.guildfordbowlingclub.com.au/event/jackpot-joker-this-weeks-jackpot-1150-2024-06-29/
CATEGORIES:Weekly Promotion
ATTACH;FMTTYPE=image/jpeg:https://www.guildfordbowlingclub.com.au/wp-content/uploads/2022/10/Guildford_DigitalResizesJackpot_TVL-e1758235056426.jpg
END:VEVENT
BEGIN:VEVENT
DTSTART;TZID=Australia/Sydney:20260708T193000
DTEND;TZID=Australia/Sydney:20320622T193000
DTSTAMP:20260420T075512
CREATED:20221012T041116Z
LAST-MODIFIED:20250603T054429Z
UID:10004734-1783539000-1971545400@www.guildfordbowlingclub.com.au
SUMMARY:JACKPOT JOKER
DESCRIPTION:
URL:https://www.guildfordbowlingclub.com.au/event/jackpot-joker-this-weeks-jackpot-1150-2024-06-26/
CATEGORIES:Weekly Promotion
ATTACH;FMTTYPE=image/jpeg:https://www.guildfordbowlingclub.com.au/wp-content/uploads/2022/10/Guildford_DigitalResizesJackpot_TVL-e1758235056426.jpg
END:VEVENT
BEGIN:VEVENT
DTSTART;TZID=Australia/Sydney:20260708T193000
DTEND;TZID=Australia/Sydney:20320622T193000
DTSTAMP:20260420T075512
CREATED:20221012T041116Z
LAST-MODIFIED:20250603T054430Z
UID:10004885-1783539000-1971545400@www.guildfordbowlingclub.com.au
SUMMARY:JACKPOT JOKER
DESCRIPTION:
URL:https://www.guildfordbowlingclub.com.au/event/jackpot-joker-this-weeks-jackpot-1150-2024-06-29/
CATEGORIES:Weekly Promotion
ATTACH;FMTTYPE=image/jpeg:https://www.guildfordbowlingclub.com.au/wp-content/uploads/2022/10/Guildford_DigitalResizesJackpot_TVL-e1758235056426.jpg
END:VEVENT
BEGIN:VEVENT
DTSTART;TZID=Australia/Sydney:20260722T193000
DTEND;TZID=Australia/Sydney:20320706T193000
DTSTAMP:20260420T075512
CREATED:20221012T041116Z
LAST-MODIFIED:20250603T054429Z
UID:10004735-1784748600-1972755000@www.guildfordbowlingclub.com.au
SUMMARY:JACKPOT JOKER
DESCRIPTION:
URL:https://www.guildfordbowlingclub.com.au/event/jackpot-joker-this-weeks-jackpot-1150-2024-06-26/
CATEGORIES:Weekly Promotion
ATTACH;FMTTYPE=image/jpeg:https://www.guildfordbowlingclub.com.au/wp-content/uploads/2022/10/Guildford_DigitalResizesJackpot_TVL-e1758235056426.jpg
END:VEVENT
BEGIN:VEVENT
DTSTART;TZID=Australia/Sydney:20260722T193000
DTEND;TZID=Australia/Sydney:20320706T193000
DTSTAMP:20260420T075512
CREATED:20221012T041116Z
LAST-MODIFIED:20250603T054430Z
UID:10004886-1784748600-1972755000@www.guildfordbowlingclub.com.au
SUMMARY:JACKPOT JOKER
DESCRIPTION:
URL:https://www.guildfordbowlingclub.com.au/event/jackpot-joker-this-weeks-jackpot-1150-2024-06-29/
CATEGORIES:Weekly Promotion
ATTACH;FMTTYPE=image/jpeg:https://www.guildfordbowlingclub.com.au/wp-content/uploads/2022/10/Guildford_DigitalResizesJackpot_TVL-e1758235056426.jpg
END:VEVENT
BEGIN:VEVENT
DTSTART;TZID=Australia/Sydney:20260805T193000
DTEND;TZID=Australia/Sydney:20320720T193000
DTSTAMP:20260420T075512
CREATED:20221012T041116Z
LAST-MODIFIED:20250603T054429Z
UID:10004736-1785958200-1973964600@www.guildfordbowlingclub.com.au
SUMMARY:JACKPOT JOKER
DESCRIPTION:
URL:https://www.guildfordbowlingclub.com.au/event/jackpot-joker-this-weeks-jackpot-1150-2024-06-26/
CATEGORIES:Weekly Promotion
ATTACH;FMTTYPE=image/jpeg:https://www.guildfordbowlingclub.com.au/wp-content/uploads/2022/10/Guildford_DigitalResizesJackpot_TVL-e1758235056426.jpg
END:VEVENT
BEGIN:VEVENT
DTSTART;TZID=Australia/Sydney:20260805T193000
DTEND;TZID=Australia/Sydney:20320720T193000
DTSTAMP:20260420T075512
CREATED:20221012T041116Z
LAST-MODIFIED:20250603T054430Z
UID:10004887-1785958200-1973964600@www.guildfordbowlingclub.com.au
SUMMARY:JACKPOT JOKER
DESCRIPTION:
URL:https://www.guildfordbowlingclub.com.au/event/jackpot-joker-this-weeks-jackpot-1150-2024-06-29/
CATEGORIES:Weekly Promotion
ATTACH;FMTTYPE=image/jpeg:https://www.guildfordbowlingclub.com.au/wp-content/uploads/2022/10/Guildford_DigitalResizesJackpot_TVL-e1758235056426.jpg
END:VEVENT
BEGIN:VEVENT
DTSTART;TZID=Australia/Sydney:20260819T193000
DTEND;TZID=Australia/Sydney:20320803T193000
DTSTAMP:20260420T075512
CREATED:20221012T041116Z
LAST-MODIFIED:20250603T054429Z
UID:10004737-1787167800-1975174200@www.guildfordbowlingclub.com.au
SUMMARY:JACKPOT JOKER
DESCRIPTION:
URL:https://www.guildfordbowlingclub.com.au/event/jackpot-joker-this-weeks-jackpot-1150-2024-06-26/
CATEGORIES:Weekly Promotion
ATTACH;FMTTYPE=image/jpeg:https://www.guildfordbowlingclub.com.au/wp-content/uploads/2022/10/Guildford_DigitalResizesJackpot_TVL-e1758235056426.jpg
END:VEVENT
BEGIN:VEVENT
DTSTART;TZID=Australia/Sydney:20260819T193000
DTEND;TZID=Australia/Sydney:20320803T193000
DTSTAMP:20260420T075512
CREATED:20221012T041116Z
LAST-MODIFIED:20250603T054430Z
UID:10004888-1787167800-1975174200@www.guildfordbowlingclub.com.au
SUMMARY:JACKPOT JOKER
DESCRIPTION:
URL:https://www.guildfordbowlingclub.com.au/event/jackpot-joker-this-weeks-jackpot-1150-2024-06-29/
CATEGORIES:Weekly Promotion
ATTACH;FMTTYPE=image/jpeg:https://www.guildfordbowlingclub.com.au/wp-content/uploads/2022/10/Guildford_DigitalResizesJackpot_TVL-e1758235056426.jpg
END:VEVENT
BEGIN:VEVENT
DTSTART;TZID=Australia/Sydney:20260902T193000
DTEND;TZID=Australia/Sydney:20320817T193000
DTSTAMP:20260420T075512
CREATED:20221012T041116Z
LAST-MODIFIED:20250603T054429Z
UID:10004738-1788377400-1976383800@www.guildfordbowlingclub.com.au
SUMMARY:JACKPOT JOKER
DESCRIPTION:
URL:https://www.guildfordbowlingclub.com.au/event/jackpot-joker-this-weeks-jackpot-1150-2024-06-26/
CATEGORIES:Weekly Promotion
ATTACH;FMTTYPE=image/jpeg:https://www.guildfordbowlingclub.com.au/wp-content/uploads/2022/10/Guildford_DigitalResizesJackpot_TVL-e1758235056426.jpg
END:VEVENT
BEGIN:VEVENT
DTSTART;TZID=Australia/Sydney:20260902T193000
DTEND;TZID=Australia/Sydney:20320817T193000
DTSTAMP:20260420T075512
CREATED:20221012T041116Z
LAST-MODIFIED:20250603T054430Z
UID:10004889-1788377400-1976383800@www.guildfordbowlingclub.com.au
SUMMARY:JACKPOT JOKER
DESCRIPTION:
URL:https://www.guildfordbowlingclub.com.au/event/jackpot-joker-this-weeks-jackpot-1150-2024-06-29/
CATEGORIES:Weekly Promotion
ATTACH;FMTTYPE=image/jpeg:https://www.guildfordbowlingclub.com.au/wp-content/uploads/2022/10/Guildford_DigitalResizesJackpot_TVL-e1758235056426.jpg
END:VEVENT
BEGIN:VEVENT
DTSTART;TZID=Australia/Sydney:20260916T193000
DTEND;TZID=Australia/Sydney:20320831T193000
DTSTAMP:20260420T075512
CREATED:20221012T041116Z
LAST-MODIFIED:20250603T054429Z
UID:10004739-1789587000-1977593400@www.guildfordbowlingclub.com.au
SUMMARY:JACKPOT JOKER
DESCRIPTION:
URL:https://www.guildfordbowlingclub.com.au/event/jackpot-joker-this-weeks-jackpot-1150-2024-06-26/
CATEGORIES:Weekly Promotion
ATTACH;FMTTYPE=image/jpeg:https://www.guildfordbowlingclub.com.au/wp-content/uploads/2022/10/Guildford_DigitalResizesJackpot_TVL-e1758235056426.jpg
END:VEVENT
BEGIN:VEVENT
DTSTART;TZID=Australia/Sydney:20260916T193000
DTEND;TZID=Australia/Sydney:20320831T193000
DTSTAMP:20260420T075512
CREATED:20221012T041116Z
LAST-MODIFIED:20250603T054430Z
UID:10004890-1789587000-1977593400@www.guildfordbowlingclub.com.au
SUMMARY:JACKPOT JOKER
DESCRIPTION:
URL:https://www.guildfordbowlingclub.com.au/event/jackpot-joker-this-weeks-jackpot-1150-2024-06-29/
CATEGORIES:Weekly Promotion
ATTACH;FMTTYPE=image/jpeg:https://www.guildfordbowlingclub.com.au/wp-content/uploads/2022/10/Guildford_DigitalResizesJackpot_TVL-e1758235056426.jpg
END:VEVENT
END:VCALENDAR