BEGIN:VCALENDAR
VERSION:2.0
PRODID:-//Guildford Bowling Club - ECPv6.15.16.1//NONSGML v1.0//EN
CALSCALE:GREGORIAN
METHOD:PUBLISH
X-WR-CALNAME:Guildford Bowling Club
X-ORIGINAL-URL:https://www.guildfordbowlingclub.com.au
X-WR-CALDESC:Events for Guildford Bowling Club
REFRESH-INTERVAL;VALUE=DURATION:PT1H
X-Robots-Tag:noindex
X-PUBLISHED-TTL:PT1H
BEGIN:VTIMEZONE
TZID:Australia/Sydney
BEGIN:STANDARD
TZOFFSETFROM:+1100
TZOFFSETTO:+1000
TZNAME:AEST
DTSTART:20290331T160000
END:STANDARD
BEGIN:DAYLIGHT
TZOFFSETFROM:+1000
TZOFFSETTO:+1100
TZNAME:AEDT
DTSTART:20291006T160000
END:DAYLIGHT
BEGIN:STANDARD
TZOFFSETFROM:+1100
TZOFFSETTO:+1000
TZNAME:AEST
DTSTART:20300406T160000
END:STANDARD
BEGIN:DAYLIGHT
TZOFFSETFROM:+1000
TZOFFSETTO:+1100
TZNAME:AEDT
DTSTART:20301005T160000
END:DAYLIGHT
BEGIN:STANDARD
TZOFFSETFROM:+1100
TZOFFSETTO:+1000
TZNAME:AEST
DTSTART:20310405T160000
END:STANDARD
BEGIN:DAYLIGHT
TZOFFSETFROM:+1000
TZOFFSETTO:+1100
TZNAME:AEDT
DTSTART:20311004T160000
END:DAYLIGHT
BEGIN:STANDARD
TZOFFSETFROM:+1100
TZOFFSETTO:+1000
TZNAME:AEST
DTSTART:20320403T160000
END:STANDARD
BEGIN:DAYLIGHT
TZOFFSETFROM:+1000
TZOFFSETTO:+1100
TZNAME:AEDT
DTSTART:20321002T160000
END:DAYLIGHT
BEGIN:STANDARD
TZOFFSETFROM:+1100
TZOFFSETTO:+1000
TZNAME:AEST
DTSTART:20330402T160000
END:STANDARD
BEGIN:DAYLIGHT
TZOFFSETFROM:+1000
TZOFFSETTO:+1100
TZNAME:AEDT
DTSTART:20331001T160000
END:DAYLIGHT
BEGIN:STANDARD
TZOFFSETFROM:+1100
TZOFFSETTO:+1000
TZNAME:AEST
DTSTART:20340401T160000
END:STANDARD
BEGIN:DAYLIGHT
TZOFFSETFROM:+1000
TZOFFSETTO:+1100
TZNAME:AEDT
DTSTART:20340930T160000
END:DAYLIGHT
BEGIN:STANDARD
TZOFFSETFROM:+1100
TZOFFSETTO:+1000
TZNAME:AEST
DTSTART:20350331T160000
END:STANDARD
BEGIN:DAYLIGHT
TZOFFSETFROM:+1000
TZOFFSETTO:+1100
TZNAME:AEDT
DTSTART:20351006T160000
END:DAYLIGHT
BEGIN:STANDARD
TZOFFSETFROM:+1100
TZOFFSETTO:+1000
TZNAME:AEST
DTSTART:20360405T160000
END:STANDARD
BEGIN:DAYLIGHT
TZOFFSETFROM:+1000
TZOFFSETTO:+1100
TZNAME:AEDT
DTSTART:20361004T160000
END:DAYLIGHT
BEGIN:STANDARD
TZOFFSETFROM:+1100
TZOFFSETTO:+1000
TZNAME:AEST
DTSTART:20370404T160000
END:STANDARD
BEGIN:DAYLIGHT
TZOFFSETFROM:+1000
TZOFFSETTO:+1100
TZNAME:AEDT
DTSTART:20371003T160000
END:DAYLIGHT
END:VTIMEZONE
BEGIN:VEVENT
DTSTART;TZID=Australia/Sydney:20300102T193000
DTEND;TZID=Australia/Sydney:20351218T193000
DTSTAMP:20260420T114443
CREATED:20221012T041116Z
LAST-MODIFIED:20250603T054429Z
UID:10004825-1893612600-2081619000@www.guildfordbowlingclub.com.au
SUMMARY:JACKPOT JOKER
DESCRIPTION:
URL:https://www.guildfordbowlingclub.com.au/event/jackpot-joker-this-weeks-jackpot-1150-2024-06-26/
CATEGORIES:Weekly Promotion
ATTACH;FMTTYPE=image/jpeg:https://www.guildfordbowlingclub.com.au/wp-content/uploads/2022/10/Guildford_DigitalResizesJackpot_TVL-e1758235056426.jpg
END:VEVENT
BEGIN:VEVENT
DTSTART;TZID=Australia/Sydney:20300102T193000
DTEND;TZID=Australia/Sydney:20351218T193000
DTSTAMP:20260420T114443
CREATED:20221012T041116Z
LAST-MODIFIED:20250603T054430Z
UID:10004976-1893612600-2081619000@www.guildfordbowlingclub.com.au
SUMMARY:JACKPOT JOKER
DESCRIPTION:
URL:https://www.guildfordbowlingclub.com.au/event/jackpot-joker-this-weeks-jackpot-1150-2024-06-29/
CATEGORIES:Weekly Promotion
ATTACH;FMTTYPE=image/jpeg:https://www.guildfordbowlingclub.com.au/wp-content/uploads/2022/10/Guildford_DigitalResizesJackpot_TVL-e1758235056426.jpg
END:VEVENT
BEGIN:VEVENT
DTSTART;TZID=Australia/Sydney:20300116T193000
DTEND;TZID=Australia/Sydney:20360101T193000
DTSTAMP:20260420T114443
CREATED:20221012T041116Z
LAST-MODIFIED:20250603T054429Z
UID:10004826-1894822200-2082828600@www.guildfordbowlingclub.com.au
SUMMARY:JACKPOT JOKER
DESCRIPTION:
URL:https://www.guildfordbowlingclub.com.au/event/jackpot-joker-this-weeks-jackpot-1150-2024-06-26/
CATEGORIES:Weekly Promotion
ATTACH;FMTTYPE=image/jpeg:https://www.guildfordbowlingclub.com.au/wp-content/uploads/2022/10/Guildford_DigitalResizesJackpot_TVL-e1758235056426.jpg
END:VEVENT
BEGIN:VEVENT
DTSTART;TZID=Australia/Sydney:20300116T193000
DTEND;TZID=Australia/Sydney:20360101T193000
DTSTAMP:20260420T114443
CREATED:20221012T041116Z
LAST-MODIFIED:20250603T054430Z
UID:10004977-1894822200-2082828600@www.guildfordbowlingclub.com.au
SUMMARY:JACKPOT JOKER
DESCRIPTION:
URL:https://www.guildfordbowlingclub.com.au/event/jackpot-joker-this-weeks-jackpot-1150-2024-06-29/
CATEGORIES:Weekly Promotion
ATTACH;FMTTYPE=image/jpeg:https://www.guildfordbowlingclub.com.au/wp-content/uploads/2022/10/Guildford_DigitalResizesJackpot_TVL-e1758235056426.jpg
END:VEVENT
BEGIN:VEVENT
DTSTART;TZID=Australia/Sydney:20300130T193000
DTEND;TZID=Australia/Sydney:20360115T193000
DTSTAMP:20260420T114443
CREATED:20221012T041116Z
LAST-MODIFIED:20250603T054429Z
UID:10004827-1896031800-2084038200@www.guildfordbowlingclub.com.au
SUMMARY:JACKPOT JOKER
DESCRIPTION:
URL:https://www.guildfordbowlingclub.com.au/event/jackpot-joker-this-weeks-jackpot-1150-2024-06-26/
CATEGORIES:Weekly Promotion
ATTACH;FMTTYPE=image/jpeg:https://www.guildfordbowlingclub.com.au/wp-content/uploads/2022/10/Guildford_DigitalResizesJackpot_TVL-e1758235056426.jpg
END:VEVENT
BEGIN:VEVENT
DTSTART;TZID=Australia/Sydney:20300130T193000
DTEND;TZID=Australia/Sydney:20360115T193000
DTSTAMP:20260420T114443
CREATED:20221012T041116Z
LAST-MODIFIED:20250603T054430Z
UID:10004978-1896031800-2084038200@www.guildfordbowlingclub.com.au
SUMMARY:JACKPOT JOKER
DESCRIPTION:
URL:https://www.guildfordbowlingclub.com.au/event/jackpot-joker-this-weeks-jackpot-1150-2024-06-29/
CATEGORIES:Weekly Promotion
ATTACH;FMTTYPE=image/jpeg:https://www.guildfordbowlingclub.com.au/wp-content/uploads/2022/10/Guildford_DigitalResizesJackpot_TVL-e1758235056426.jpg
END:VEVENT
BEGIN:VEVENT
DTSTART;TZID=Australia/Sydney:20300213T193000
DTEND;TZID=Australia/Sydney:20360129T193000
DTSTAMP:20260420T114443
CREATED:20221012T041116Z
LAST-MODIFIED:20250603T054429Z
UID:10004828-1897241400-2085247800@www.guildfordbowlingclub.com.au
SUMMARY:JACKPOT JOKER
DESCRIPTION:
URL:https://www.guildfordbowlingclub.com.au/event/jackpot-joker-this-weeks-jackpot-1150-2024-06-26/
CATEGORIES:Weekly Promotion
ATTACH;FMTTYPE=image/jpeg:https://www.guildfordbowlingclub.com.au/wp-content/uploads/2022/10/Guildford_DigitalResizesJackpot_TVL-e1758235056426.jpg
END:VEVENT
BEGIN:VEVENT
DTSTART;TZID=Australia/Sydney:20300213T193000
DTEND;TZID=Australia/Sydney:20360129T193000
DTSTAMP:20260420T114443
CREATED:20221012T041116Z
LAST-MODIFIED:20250603T054430Z
UID:10004979-1897241400-2085247800@www.guildfordbowlingclub.com.au
SUMMARY:JACKPOT JOKER
DESCRIPTION:
URL:https://www.guildfordbowlingclub.com.au/event/jackpot-joker-this-weeks-jackpot-1150-2024-06-29/
CATEGORIES:Weekly Promotion
ATTACH;FMTTYPE=image/jpeg:https://www.guildfordbowlingclub.com.au/wp-content/uploads/2022/10/Guildford_DigitalResizesJackpot_TVL-e1758235056426.jpg
END:VEVENT
BEGIN:VEVENT
DTSTART;TZID=Australia/Sydney:20300227T193000
DTEND;TZID=Australia/Sydney:20360212T193000
DTSTAMP:20260420T114443
CREATED:20221012T041116Z
LAST-MODIFIED:20250603T054429Z
UID:10004829-1898451000-2086457400@www.guildfordbowlingclub.com.au
SUMMARY:JACKPOT JOKER
DESCRIPTION:
URL:https://www.guildfordbowlingclub.com.au/event/jackpot-joker-this-weeks-jackpot-1150-2024-06-26/
CATEGORIES:Weekly Promotion
ATTACH;FMTTYPE=image/jpeg:https://www.guildfordbowlingclub.com.au/wp-content/uploads/2022/10/Guildford_DigitalResizesJackpot_TVL-e1758235056426.jpg
END:VEVENT
BEGIN:VEVENT
DTSTART;TZID=Australia/Sydney:20300227T193000
DTEND;TZID=Australia/Sydney:20360212T193000
DTSTAMP:20260420T114443
CREATED:20221012T041116Z
LAST-MODIFIED:20250603T054430Z
UID:10004980-1898451000-2086457400@www.guildfordbowlingclub.com.au
SUMMARY:JACKPOT JOKER
DESCRIPTION:
URL:https://www.guildfordbowlingclub.com.au/event/jackpot-joker-this-weeks-jackpot-1150-2024-06-29/
CATEGORIES:Weekly Promotion
ATTACH;FMTTYPE=image/jpeg:https://www.guildfordbowlingclub.com.au/wp-content/uploads/2022/10/Guildford_DigitalResizesJackpot_TVL-e1758235056426.jpg
END:VEVENT
BEGIN:VEVENT
DTSTART;TZID=Australia/Sydney:20300313T193000
DTEND;TZID=Australia/Sydney:20360226T193000
DTSTAMP:20260420T114443
CREATED:20221012T041116Z
LAST-MODIFIED:20250603T054429Z
UID:10004830-1899660600-2087667000@www.guildfordbowlingclub.com.au
SUMMARY:JACKPOT JOKER
DESCRIPTION:
URL:https://www.guildfordbowlingclub.com.au/event/jackpot-joker-this-weeks-jackpot-1150-2024-06-26/
CATEGORIES:Weekly Promotion
ATTACH;FMTTYPE=image/jpeg:https://www.guildfordbowlingclub.com.au/wp-content/uploads/2022/10/Guildford_DigitalResizesJackpot_TVL-e1758235056426.jpg
END:VEVENT
BEGIN:VEVENT
DTSTART;TZID=Australia/Sydney:20300313T193000
DTEND;TZID=Australia/Sydney:20360226T193000
DTSTAMP:20260420T114443
CREATED:20221012T041116Z
LAST-MODIFIED:20250603T054430Z
UID:10004981-1899660600-2087667000@www.guildfordbowlingclub.com.au
SUMMARY:JACKPOT JOKER
DESCRIPTION:
URL:https://www.guildfordbowlingclub.com.au/event/jackpot-joker-this-weeks-jackpot-1150-2024-06-29/
CATEGORIES:Weekly Promotion
ATTACH;FMTTYPE=image/jpeg:https://www.guildfordbowlingclub.com.au/wp-content/uploads/2022/10/Guildford_DigitalResizesJackpot_TVL-e1758235056426.jpg
END:VEVENT
BEGIN:VEVENT
DTSTART;TZID=Australia/Sydney:20300327T193000
DTEND;TZID=Australia/Sydney:20360311T193000
DTSTAMP:20260420T114443
CREATED:20221012T041116Z
LAST-MODIFIED:20250603T054429Z
UID:10004831-1900870200-2088876600@www.guildfordbowlingclub.com.au
SUMMARY:JACKPOT JOKER
DESCRIPTION:
URL:https://www.guildfordbowlingclub.com.au/event/jackpot-joker-this-weeks-jackpot-1150-2024-06-26/
CATEGORIES:Weekly Promotion
ATTACH;FMTTYPE=image/jpeg:https://www.guildfordbowlingclub.com.au/wp-content/uploads/2022/10/Guildford_DigitalResizesJackpot_TVL-e1758235056426.jpg
END:VEVENT
BEGIN:VEVENT
DTSTART;TZID=Australia/Sydney:20300327T193000
DTEND;TZID=Australia/Sydney:20360311T193000
DTSTAMP:20260420T114443
CREATED:20221012T041116Z
LAST-MODIFIED:20250603T054430Z
UID:10004982-1900870200-2088876600@www.guildfordbowlingclub.com.au
SUMMARY:JACKPOT JOKER
DESCRIPTION:
URL:https://www.guildfordbowlingclub.com.au/event/jackpot-joker-this-weeks-jackpot-1150-2024-06-29/
CATEGORIES:Weekly Promotion
ATTACH;FMTTYPE=image/jpeg:https://www.guildfordbowlingclub.com.au/wp-content/uploads/2022/10/Guildford_DigitalResizesJackpot_TVL-e1758235056426.jpg
END:VEVENT
END:VCALENDAR